BEGIN:VCALENDAR
VERSION:2.0
PRODID:-//Come to First - ECPv6.15.17.1//NONSGML v1.0//EN
CALSCALE:GREGORIAN
METHOD:PUBLISH
X-ORIGINAL-URL:https://www.cometofirst.com
X-WR-CALDESC:Events for Come to First
REFRESH-INTERVAL;VALUE=DURATION:PT1H
X-Robots-Tag:noindex
X-PUBLISHED-TTL:PT1H
BEGIN:VTIMEZONE
TZID:UTC
BEGIN:STANDARD
TZOFFSETFROM:+0000
TZOFFSETTO:+0000
TZNAME:UTC
DTSTART:20190101T000000
END:STANDARD
END:VTIMEZONE
BEGIN:VEVENT
DTSTART;TZID=UTC:20201109T080000
DTEND;TZID=UTC:20201204T170000
DTSTAMP:20260419T175840
CREATED:20201105T181153Z
LAST-MODIFIED:20201117T165007Z
UID:3103-1604908800-1607101200@www.cometofirst.com
SUMMARY:Giving Tree
DESCRIPTION:FBC will be participating in a Giving Tree opportunity to benefit Network of Nations’ students and families. This year we have a Virtual Giving Tree to help everyone participate. \nHow it works: \n\nClick here to view the Virtual Giving Tree.\nEach sign up slot will contain the recipient’s name\, country of origin\, and their gift request. Suggested gift price range: $30.00\nPurchase the gift(s) they indicated and wrap. If you are able\, it would be great to include a Christmas card with a photo of yourself or your family for your recipient\, along with a note. This adds a personal touch from who is sending their Christmas gift.\nReturn wrapped gifts to FBC for Network of Nations staff to deliver to the recipient (with the original tag).\n\nIf you plan to drop off items at FBC during the week\, please call or email ahead of time to schedule a time to do so: 815-895-3116 or office@cometofirst.com\nNOTE: If your tag indicates this is a “Family Gift”\, please drop off your gift at FBC to be grouped together for delivery with the other gifts for that particular family.\nIf you would like the opportunity to hand deliver your gift (safely\, with COVID precautions)\, please reach out.\n\n\nPlease make sure all gifts are in by Sunday\, November 29th.\n\nIf you prefer to make a general donation to the Giving Tree\, please write a check out to Network of Nations with “Giving Tree” in the memo\, and mail to the church office at 530 W. State St. Sycamore\, IL 60178.
URL:https://www.cometofirst.com/event/giving-tree/
LOCATION:First Baptist Church\, 530 W State St\, Sycamore\, IL\, 60178\, United States
CATEGORIES:All-Church,Missions
ATTACH;FMTTYPE=image/png:https://www.cometofirst.com/wp-content/uploads/2020/11/Giving-Tree-Slide-e1604599783758.png
END:VEVENT
BEGIN:VEVENT
DTSTART;TZID=UTC:20201212T180000
DTEND;TZID=UTC:20201212T193000
DTSTAMP:20260419T175840
CREATED:20201208T215338Z
LAST-MODIFIED:20201208T215338Z
UID:3941-1607796000-1607801400@www.cometofirst.com
SUMMARY:Christmas Hymn Sing
DESCRIPTION:Gather online with us to enjoy some Christmas carols and hymns together. Say hello in the YouTube live chat and “shout out” a request of your favorite carol! We’ll start streaming online at 6pm: https://bit.ly/ChristmasHymnNight
URL:https://www.cometofirst.com/event/christmas-hymn-sing/
LOCATION:First Baptist Church\, 530 W State St\, Sycamore\, IL\, 60178\, United States
CATEGORIES:All-Church
ATTACH;FMTTYPE=image/png:https://www.cometofirst.com/wp-content/uploads/2020/12/Christmas-Hymn-Sing-e1607464386931.png
END:VEVENT
BEGIN:VEVENT
DTSTART;TZID=UTC:20201220T173000
DTEND;TZID=UTC:20201220T200000
DTSTAMP:20260419T175840
CREATED:20201210T163930Z
LAST-MODIFIED:20201214T142618Z
UID:3974-1608485400-1608494400@www.cometofirst.com
SUMMARY:Christmas Carol Outreach
DESCRIPTION:Come along with a mule-drawn carriage as we carol down the streets of Sycamore for our Christmas outreach! We will gather at FBC on both Sunday\, December 20 and Monday\, December 21 at 5:30pm to pray together and then begin caroling from 6-8pm. Join us for however long you can! Please wear a mask and know that we will be social distancing during this event.
URL:https://www.cometofirst.com/event/christmas-carol-outreach/
LOCATION:IL
CATEGORIES:All-Church,Outreach
ATTACH;FMTTYPE=image/png:https://www.cometofirst.com/wp-content/uploads/2020/12/Christmas-Carol-Outreach-2-e1607615623699.png
END:VEVENT
BEGIN:VEVENT
DTSTART;TZID=UTC:20201221T173000
DTEND;TZID=UTC:20201221T200000
DTSTAMP:20260419T175840
CREATED:20201214T142727Z
LAST-MODIFIED:20201214T142727Z
UID:3997-1608571800-1608580800@www.cometofirst.com
SUMMARY:Christmas Carol Outreach
DESCRIPTION:Come along with a mule-drawn carriage as we carol down the streets of Sycamore for our Christmas outreach! We will gather at FBC on both Sunday\, December 20 and Monday\, December 21 at 5:30pm to pray together and then begin caroling from 6-8pm. Join us for however long you can! Please wear a mask and know that we will be social distancing during this event.
URL:https://www.cometofirst.com/event/christmas-carol-outreach-2/
LOCATION:First Baptist Church\, 530 W State St\, Sycamore\, IL\, 60178\, United States
CATEGORIES:All-Church,Outreach
ATTACH;FMTTYPE=image/png:https://www.cometofirst.com/wp-content/uploads/2020/12/Christmas-Carol-Outreach-2-e1607615623699.png
END:VEVENT
BEGIN:VEVENT
DTSTART;TZID=UTC:20201224T210000
DTEND;TZID=UTC:20201224T220000
DTSTAMP:20260419T175840
CREATED:20201208T214719Z
LAST-MODIFIED:20201208T214719Z
UID:3938-1608843600-1608847200@www.cometofirst.com
SUMMARY:Christmas Eve Online Candlelight Service
DESCRIPTION:Join us online for our annual Christmas Eve Candlelight Service. We’ll be sharing testimonies\, singing hymns and carols together\, and celebrating the birth of Christ. Don’t forget to have a candle handy for our traditional ending with “Silent Night”! We’ll stream online at 9pm at: https://bit.ly/ChristmasEveFBC
URL:https://www.cometofirst.com/event/christmas-eve-online-candlelight-service/
LOCATION:First Baptist Church\, 530 W State St\, Sycamore\, IL\, 60178\, United States
CATEGORIES:All-Church
ATTACH;FMTTYPE=image/png:https://www.cometofirst.com/wp-content/uploads/2020/12/Christmas-Eve-Social-2-e1607464016388.png
END:VEVENT
END:VCALENDAR