BEGIN:VCALENDAR
VERSION:2.0
PRODID:-//Come to First - ECPv6.15.17.1//NONSGML v1.0//EN
CALSCALE:GREGORIAN
METHOD:PUBLISH
X-WR-CALNAME:Come to First
X-ORIGINAL-URL:https://www.cometofirst.com
X-WR-CALDESC:Events for Come to First
REFRESH-INTERVAL;VALUE=DURATION:PT1H
X-Robots-Tag:noindex
X-PUBLISHED-TTL:PT1H
BEGIN:VTIMEZONE
TZID:UTC
BEGIN:STANDARD
TZOFFSETFROM:+0000
TZOFFSETTO:+0000
TZNAME:UTC
DTSTART:20200101T000000
END:STANDARD
END:VTIMEZONE
BEGIN:VEVENT
DTSTART;TZID=UTC:20210124T103000
DTEND;TZID=UTC:20210124T120000
DTSTAMP:20260419T162228
CREATED:20210121T181628Z
LAST-MODIFIED:20210121T181628Z
UID:5077-1611484200-1611489600@www.cometofirst.com
SUMMARY:Sunday Worship - Walk in Him Series
DESCRIPTION:Join us on Sunday morning for worship and a message. We’re in the middle of our Walk in Him sermon series. We welcome you online or in-person at 10:30am at: https://bit.ly/FBC-0124 \nThis series is a call to renew our spiritual growth in Christ\, as a church. We’ll be working through topics that draw us deeper in our relationship with Christ\, and prepare us to disicple one another\, while reaching out to share Christ with others and begin new discipling relationships with people as they come to faith and join our discipling faith family. We need to develop a passionate\, firmly Word-grounded faith – battling apathy and error\, changing the world one life at a time!
URL:https://www.cometofirst.com/event/sunday-worship-walk-in-him-series/
LOCATION:First Baptist Church\, 530 W State St\, Sycamore\, IL\, 60178\, United States
CATEGORIES:All-Church
ATTACH;FMTTYPE=image/png:https://www.cometofirst.com/wp-content/uploads/2021/01/Walk-in-Him-Facebook-Post-e1611252869904.png
END:VEVENT
BEGIN:VEVENT
DTSTART;TZID=UTC:20210130T180000
DTEND;TZID=UTC:20210130T193000
DTSTAMP:20260419T162228
CREATED:20210121T172852Z
LAST-MODIFIED:20210122T231544Z
UID:5062-1612029600-1612035000@www.cometofirst.com
SUMMARY:Virtual Hymn Night
DESCRIPTION:Join us on Saturday\, January 30th at 6:00pm for our virtual hymn night! We’ll be streaming live from YouTube and singing some favorites together\, from the comfort of your home. Use the chat feature to share some requests for next month’s hymn night too! Join us at: https://bit.ly/HymnNight130
URL:https://www.cometofirst.com/event/virtual-hymn-night/
LOCATION:First Baptist Church\, 530 W State St\, Sycamore\, IL\, 60178\, United States
CATEGORIES:All-Church
ATTACH;FMTTYPE=image/png:https://www.cometofirst.com/wp-content/uploads/2021/01/FBC-Hymn-Night-1-e1611250100142.png
END:VEVENT
BEGIN:VEVENT
DTSTART;TZID=UTC:20210131T103000
DTEND;TZID=UTC:20210131T120000
DTSTAMP:20260419T162228
CREATED:20210121T173811Z
LAST-MODIFIED:20210122T231712Z
UID:5066-1612089000-1612094400@www.cometofirst.com
SUMMARY:Sunday Worship - Great Question! Series
DESCRIPTION:Join us for worship on Sunday at 10:30am\, online or in-person! This Sunday\, Pastors Kevin and Nate will be reviewing some of the questions church members submitted over the past few weeks\, and speaking to them from a Biblical base. Tune in for this Q&A mini-series this Sunday and next. Join us online at: https://bit.ly/FBC-0131
URL:https://www.cometofirst.com/event/sunday-worship-great-question-series/
LOCATION:First Baptist Church\, 530 W State St\, Sycamore\, IL\, 60178\, United States
CATEGORIES:All-Church
ATTACH;FMTTYPE=image/png:https://www.cometofirst.com/wp-content/uploads/2021/01/Great-Question-Social-2-e1611250553182.png
END:VEVENT
END:VCALENDAR