BEGIN:VCALENDAR
VERSION:2.0
PRODID:-//Come to First - ECPv6.15.17.1//NONSGML v1.0//EN
CALSCALE:GREGORIAN
METHOD:PUBLISH
X-ORIGINAL-URL:https://www.cometofirst.com
X-WR-CALDESC:Events for Come to First
REFRESH-INTERVAL;VALUE=DURATION:PT1H
X-Robots-Tag:noindex
X-PUBLISHED-TTL:PT1H
BEGIN:VTIMEZONE
TZID:UTC
BEGIN:STANDARD
TZOFFSETFROM:+0000
TZOFFSETTO:+0000
TZNAME:UTC
DTSTART:20200101T000000
END:STANDARD
END:VTIMEZONE
BEGIN:VEVENT
DTSTART;TZID=UTC:20210207T103000
DTEND;TZID=UTC:20210207T120000
DTSTAMP:20260419T144140
CREATED:20210121T175817Z
LAST-MODIFIED:20210122T231641Z
UID:5069-1612693800-1612699200@www.cometofirst.com
SUMMARY:Sunday Worship - Great Question! Series
DESCRIPTION:Join us for worship on Sunday at 10:30am\, online or in-person! This Sunday\, Pastors Kevin and Nate will be reviewing some of the questions church members submitted over the past few weeks\, and speaking to them from a Biblical base in a Q&A style sermon. Join us online at: https://bit.ly/FBC-0207
URL:https://www.cometofirst.com/event/sunday-worship-great-question-series-2/
LOCATION:First Baptist Church\, 530 W State St\, Sycamore\, IL\, 60178\, United States
CATEGORIES:All-Church
ATTACH;FMTTYPE=image/png:https://www.cometofirst.com/wp-content/uploads/2021/01/Great-Question-Social-2-e1611250553182.png
END:VEVENT
BEGIN:VEVENT
DTSTART;TZID=UTC:20210214T103000
DTEND;TZID=UTC:20210214T120000
DTSTAMP:20260419T144140
CREATED:20210202T212613Z
LAST-MODIFIED:20210202T212613Z
UID:5271-1613298600-1613304000@www.cometofirst.com
SUMMARY:Sunday Worship - Great Question! Series
DESCRIPTION:Join us for worship on Sunday at 10:30am\, online or in-person! This Sunday\, Pastors Kevin and Nate will be reviewing some of the questions church members submitted over the past few weeks\, and speaking to them from a Biblical base in a Q&A style sermon. Join us online at: https://bit.ly/FBC-0214
URL:https://www.cometofirst.com/event/sunday-worship-great-question-series-3/
LOCATION:First Baptist Church\, 530 W State St\, Sycamore\, IL\, 60178\, United States
CATEGORIES:All-Church
ATTACH;FMTTYPE=image/png:https://www.cometofirst.com/wp-content/uploads/2021/01/Great-Question-Social-2-e1611250553182.png
END:VEVENT
BEGIN:VEVENT
DTSTART;TZID=UTC:20210228T000000
DTEND;TZID=UTC:20210404T235900
DTSTAMP:20260419T144140
CREATED:20210223T222143Z
LAST-MODIFIED:20210402T220923Z
UID:5663-1614470400-1617580740@www.cometofirst.com
SUMMARY:We Care Pregnancy Clinic Fundraiser
DESCRIPTION:Every year\, FBC participates in We Care Pregnancy Clinic’s annual “Change for Life” Fundraiser! We fill baby bottles with cash and change to help We Care provide important services to women and partners facing unexpected pregnancies. We are proud to support their mission! \nThis year\, you can either take home a baby bottle from the church lobby\, or you can participate online! \n\n\nFill one virtual “bottle” for $27\, two for $54\, three for $81…etc. \nLet’s set a goal to sponsor two days of ministry at We Care! \n$1\,084.92 will cover the costs of all of the… \n\nPregnancy tests\nUltrasounds\nSTD testing and treatments\nOptions education\nSupport\nEarn While You Learn lessons\nNo Regrets programs in schools\nInformation tables and education on campus at NIU and Kish\n…and more that is offered FREE at We Care during our 2 (or more) days!\n\nThank you for supporting the ministry of We Care through Change for Life. \nDon’t forget\, you can share FBC’s fundraising link with family and friends to help our impact go further! 
URL:https://www.cometofirst.com/event/we-care-pregnancy-clinic-fundraiser/
LOCATION:First Baptist Church\, 530 W State St\, Sycamore\, IL\, 60178\, United States
CATEGORIES:All-Church
ATTACH;FMTTYPE=image/png:https://www.cometofirst.com/wp-content/uploads/2021/02/Baby-Bottle-Fundraiser-Social-Media.png
END:VEVENT
END:VCALENDAR