BEGIN:VCALENDAR
VERSION:2.0
PRODID:-//Come to First - ECPv6.15.17.1//NONSGML v1.0//EN
CALSCALE:GREGORIAN
METHOD:PUBLISH
X-WR-CALNAME:Come to First
X-ORIGINAL-URL:https://www.cometofirst.com
X-WR-CALDESC:Events for Come to First
REFRESH-INTERVAL;VALUE=DURATION:PT1H
X-Robots-Tag:noindex
X-PUBLISHED-TTL:PT1H
BEGIN:VTIMEZONE
TZID:UTC
BEGIN:STANDARD
TZOFFSETFROM:+0000
TZOFFSETTO:+0000
TZNAME:UTC
DTSTART:20200101T000000
END:STANDARD
END:VTIMEZONE
BEGIN:VEVENT
DTSTART;TZID=UTC:20210228T000000
DTEND;TZID=UTC:20210404T235900
DTSTAMP:20260423T090330
CREATED:20210223T222143Z
LAST-MODIFIED:20210402T220923Z
UID:5663-1614470400-1617580740@www.cometofirst.com
SUMMARY:We Care Pregnancy Clinic Fundraiser
DESCRIPTION:Every year\, FBC participates in We Care Pregnancy Clinic’s annual “Change for Life” Fundraiser! We fill baby bottles with cash and change to help We Care provide important services to women and partners facing unexpected pregnancies. We are proud to support their mission! \nThis year\, you can either take home a baby bottle from the church lobby\, or you can participate online! \n\n\nFill one virtual “bottle” for $27\, two for $54\, three for $81…etc. \nLet’s set a goal to sponsor two days of ministry at We Care! \n$1\,084.92 will cover the costs of all of the… \n\nPregnancy tests\nUltrasounds\nSTD testing and treatments\nOptions education\nSupport\nEarn While You Learn lessons\nNo Regrets programs in schools\nInformation tables and education on campus at NIU and Kish\n…and more that is offered FREE at We Care during our 2 (or more) days!\n\nThank you for supporting the ministry of We Care through Change for Life. \nDon’t forget\, you can share FBC’s fundraising link with family and friends to help our impact go further! 
URL:https://www.cometofirst.com/event/we-care-pregnancy-clinic-fundraiser/
LOCATION:First Baptist Church\, 530 W State St\, Sycamore\, IL\, 60178\, United States
CATEGORIES:All-Church
ATTACH;FMTTYPE=image/png:https://www.cometofirst.com/wp-content/uploads/2021/02/Baby-Bottle-Fundraiser-Social-Media.png
END:VEVENT
BEGIN:VEVENT
DTSTART;TZID=UTC:20210306T090000
DTEND;TZID=UTC:20210306T110000
DTSTAMP:20260423T090330
CREATED:20210213T193750Z
LAST-MODIFIED:20210214T140014Z
UID:5471-1615021200-1615028400@www.cometofirst.com
SUMMARY:Men's Breakfast
DESCRIPTION:All men\, young and old\, are invited to get together for a Men’s Breakfast on Saturday\, March 6 at 9:00am. Shea Quinn will host at his home (622 N. 6th St in DeKalb). Please make sure to complete our simple RSVP so we can plan ahead.
URL:https://www.cometofirst.com/event/mens-breakfast/
LOCATION:IL
CATEGORIES:Men's Ministry
ATTACH;FMTTYPE=image/png:https://www.cometofirst.com/wp-content/uploads/2021/02/Mens-Breakfast-1-e1613245032211.png
END:VEVENT
BEGIN:VEVENT
DTSTART;VALUE=DATE:20210314
DTEND;VALUE=DATE:20210315
DTSTAMP:20260423T090330
CREATED:20210211T163107Z
LAST-MODIFIED:20210226T031226Z
UID:5392-1615680000-1615766399@www.cometofirst.com
SUMMARY:Gather 'Round for Chili & Soup
DESCRIPTION:Our annual chili cook-off in the gym has long been a spotlight on missions where we have had missionaries participate live and by sending video updates. This year looks different\, but we still want you to have a chance to connect with our missionaries; encourage them and be encouraged by their work. And\, it’s fun! We need a little of that just now. Please participate in whatever way you feel comfortable and safe.  \nMembers of the Missions Committee will be hosting the video calls of our missionaries from all around the world.  They will be joining us virtually while we enjoy some delicious chili or soup and gather with friends\, virtually or in each other’s homes. The missionaries will be sharing a short update along with their current prayer needs and praises and then hanging out to enjoy some much missed fellowship with us. This is a great opportunity to meet someone new or hear about a ministry you’ve already been a part of. \nSave the date for Sunday\, March 14 and join us for lunch from 12:30-2:00pm or dinner from 6:00-7:30pm.  \nHow can you participate? \n\nBe a Host – If you want to host a small gathering in your home\, invite friends over and join one of the virtual calls. Share the food\, fun and combined fellowship too!\n\nJoin a Host – If you would like to attend a small in-home gathering\, we will try to match you up with a host. \n\n\nJoin a Host Virtually – If you want to attend virtually we will send you a link. \n\n\nClick here to sign up!\nPrizes\, Prizes\, Prizes!!! \nDo you enjoy creating your display for the Chili Cook-Off? Some very creative ideas have shown up in our gym over the years. This year there will still be 1st\, 2nd\, and 3rd place prizes for the best display\, so email me a picture of your display to have a chance to win. You can still enter\, even if you can’t join us for the actual event. Our panel of judges will have to make some hard decisions. We can’t wait to see your amazing presentations!   \nAny other questions?  Email Andrea Laben: romans11617@hotmail.com
URL:https://www.cometofirst.com/event/gather-round-for-chili-soup/
LOCATION:IL
CATEGORIES:All-Church,Missions
ATTACH;FMTTYPE=image/png:https://www.cometofirst.com/wp-content/uploads/2021/02/Chili-2021-Facebook-1-e1613072897855.png
END:VEVENT
BEGIN:VEVENT
DTSTART;TZID=UTC:20210327T180000
DTEND;TZID=UTC:20210327T193000
DTSTAMP:20260423T090330
CREATED:20210211T165229Z
LAST-MODIFIED:20210316T231454Z
UID:5395-1616868000-1616873400@www.cometofirst.com
SUMMARY:Easter Hymn Night
DESCRIPTION:Join us on Saturday\, March 27th at 6:00pm in person at First Baptist or via livestream at https://bit.ly/FBC-Hymn-0327  for an Easter Hymn Night! We’ll be streaming live on YouTube and singing some favorites together in the sanctuary and from the comfort of your home. Use the chat feature to say hello!
URL:https://www.cometofirst.com/event/easter-hymn-night/
LOCATION:IL
CATEGORIES:All-Church
ATTACH;FMTTYPE=image/png:https://www.cometofirst.com/wp-content/uploads/2021/02/FBC-Hymn-Night-2-e1613062314336.png
END:VEVENT
BEGIN:VEVENT
DTSTART;TZID=UTC:20210328T103000
DTEND;TZID=UTC:20210328T120000
DTSTAMP:20260423T090330
CREATED:20210315T152920Z
LAST-MODIFIED:20210315T155015Z
UID:5764-1616927400-1616932800@www.cometofirst.com
SUMMARY:Palm Sunday
DESCRIPTION:“Hosanna in the Highest!”  Palm Sunday\, March 28 @ 10:30am in person at First Baptist or via livestream.  \n 
URL:https://www.cometofirst.com/event/palm-sunday/
LOCATION:First Baptist Church\, 530 W State St\, Sycamore\, IL\, 60178\, United States
CATEGORIES:All-Church
ATTACH;FMTTYPE=image/png:https://www.cometofirst.com/wp-content/uploads/2021/03/Palm-Sunday.png
END:VEVENT
END:VCALENDAR